BEGIN:VCALENDAR
VERSION:2.0
PRODID:-//Maria Henkes - Bewustzijn, licht en liefde - ECPv5.8.1//NONSGML v1.0//EN
CALSCALE:GREGORIAN
METHOD:PUBLISH
X-WR-CALNAME:Maria Henkes - Bewustzijn, licht en liefde
X-ORIGINAL-URL:https://mariahenkes.nl
X-WR-CALDESC:Events for Maria Henkes - Bewustzijn, licht en liefde
BEGIN:VTIMEZONE
TZID:Europe/Amsterdam
BEGIN:DAYLIGHT
TZOFFSETFROM:+0100
TZOFFSETTO:+0200
TZNAME:CEST
DTSTART:20260329T010000
END:DAYLIGHT
BEGIN:STANDARD
TZOFFSETFROM:+0200
TZOFFSETTO:+0100
TZNAME:CET
DTSTART:20261025T010000
END:STANDARD
END:VTIMEZONE
BEGIN:VEVENT
DTSTART;TZID=Europe/Amsterdam:20260106T190000
DTEND;TZID=Europe/Amsterdam:20260106T200000
DTSTAMP:20260422T091444
CREATED:20251114T105614Z
LAST-MODIFIED:20251114T131440Z
UID:7362-1767726000-1767729600@mariahenkes.nl
SUMMARY:Energetische Huisreiniging op dinsdagavond 6 januari 2026
DESCRIPTION:Nieuw Energetische Huisreiniging:\nIn het aankomende jaar bieden we elke maand een energetische huis reiniging aan.\nWat we doen tijdens de healing:\nHet is een uitgebreide healing waarbij ik in samenwerking met alle Engelen\, gidsen\, spirits en lichtwezens\, alle negatieve entiteiten\, alle negatieve energieën en alle negativiteit naar het licht toe stuur. \nDaarnaast sturen we ook alle negatieve entiteiten\, alle negatieve energieën\, negatieve koorden en alle negativiteit van alle bewoners van het huis naar het licht.  We vullen het huis met heel veel licht en liefde en healing. We zetten bollen van licht en liefde in verschillende kleuren om het huis heen. Eentje voor bescherming\, eentje voor liefde\, eentje voor healing\, eentje voor de allerhoogste energie. We zetten Engelen neer bij alle ramen en deuren voor extra bescherming. Het voelt dat als we dit elke maand voor jou en jouw huis doen\, het steeds lichter gaat worden. \nDoor deze huisreiniging zul je merken dat je zelf lekkerder in je vel zit\, alle bewoners van het huis liefdevoller met elkaar om kunnen gaan\, je huis ook beter zal aanvoelen\, en opgeruimder zal worden en blijven. \nAanmelden:\n\nJe kunt los deelnemen per keer\, kost 20\,- per (losse) keer. Zie onderaan deze pagina alle losse kooptickets achter de juiste datum. Zodra je de koopticket betaald hebt sta je ook automatisch al aangemeld.\n\nUitleg over negatieve entiteiten\, negatieve energieën en negativiteit.\n\nNegatieve entiteiten zijn mensen zoals jij en ik\, die overleden zijn\, maar om welke reden dan ook nog tussen hemel en aarde blijven hangen.\n\nWe kunnen ze overal oppikken\, omdat ze aanhaken aan de angst\, boosheid en het verdriet wat we nog in ons hebben. \n\nNegatieve energieën\, zijn meer de monsterachtige energieën\, die bij ons zijn om ons (liefdevol) in het contrast te houden\, het contrast dat ons helpt om te mogen herinneren dat we in werkelijkheid die ziel zijn. Maar meer en meer mogen we vanuit het licht en de lichtheid dat verder gaan herinneren. Daarom is het goed om ze regelmatig naar het licht toe te sturen\, om die lichtheid weer even te kunnen ervaren.\nNegativiteit is alle negativiteit die in je huis is blijven hangen\, door onenigheid\, door spullen in je huis\, door gedachten\, angsten\, verdriet\, boosheid  etc\, alles is immers energie.\n\nNegatieve entiteiten\, negatieve energieën en negativiteit zullen we steeds weer oppikken. Dat heeft vooral te maken met dat we ons eerst nog aan het herinneren zijn dat we dat licht zijn. Zodra we ons daar meer en meer bewust van zijn\, kunnen we gaan zien en dat dat licht wat we werkelijk zijn\, niets nodig heeft\, geen enkel contrast\, geen enkel probleem\, geen enkele negativiteit. Daar zijn we naar toe op weg\, om ons dat steeds meer te herinneren. En dat bewustzijn gaat in het grote geheel momenteel best snel. Maar tot die tijd\, voelt het goed om op te schonen\, omdat het ons helpt om al meer in het licht te kunnen blijven. \nDoor deze huisreiniging zul je merken dat je zelf lekkerder in je vel zit\, alle bewoners van het huis liefdevoller met elkaar om kunnen gaan\, je huis ook beter zal aanvoelen\, en opgeruimder zal worden en blijven. \nHoe werkt het:\n\nhet is een healing die gedaan wordt op afstand\, op je huis.\nna betaling via een koopticket sta je ook automatisch al aangemeld en op de lijst.\nje ontvangt op de dag van de healing vooraf (rond 19.00 uur) een reminder/bevestiging via de mail.\ner is tijdens de healing geen live verbinding.\nna afloop van de healing stuur ik geen verslagje.\ntijd van de healing is 20.00 – 20.45 uur.\nje mag meevoelen\, maar dat hoeft niet.\n\nMiddels deze losse kooptickets kun je je aanmelden per keer (kost 20\,-):\nVoor: \n2 december 2025  koop hier je ticket \n6 januari 2026 koop hier je ticket
URL:https://mariahenkes.nl/agenda/energetische-huisreiniging-op-dinsdagavond-6-januari-2026/
ORGANIZER;CN="Maria%20Henkes":MAILTO:info@mariahenkes.nl
END:VEVENT
END:VCALENDAR