BEGIN:VCALENDAR
VERSION:2.0
PRODID:-//Maria Henkes - Bewustzijn, licht en liefde - ECPv5.8.1//NONSGML v1.0//EN
CALSCALE:GREGORIAN
METHOD:PUBLISH
X-WR-CALNAME:Maria Henkes - Bewustzijn, licht en liefde
X-ORIGINAL-URL:https://mariahenkes.nl
X-WR-CALDESC:Events for Maria Henkes - Bewustzijn, licht en liefde
BEGIN:VTIMEZONE
TZID:UTC
BEGIN:STANDARD
TZOFFSETFROM:+0000
TZOFFSETTO:+0000
TZNAME:UTC
DTSTART:20210101T000000
END:STANDARD
END:VTIMEZONE
BEGIN:VEVENT
DTSTART;TZID=UTC:20211103T193000
DTEND;TZID=UTC:20211103T213000
DTSTAMP:20260421T094028
CREATED:20210719T111203Z
LAST-MODIFIED:20211012T121021Z
UID:229-1635967800-1635975000@mariahenkes.nl
SUMMARY:Intuïtieve healing
DESCRIPTION:
URL:https://mariahenkes.nl/agenda/healingen-op-afstand/
LOCATION:Een krachtige healing\, opschoning op afstand\, lekker vanuit je eigen ontspannen thuis\, Nederland
ATTACH;FMTTYPE=image/jpeg:https://mariahenkes.nl/wp-content/uploads/2021/07/hand-3979196_1280-met-licht-free-pixabay-voor-de-agenda-584-bij-368.jpg
ORGANIZER;CN="Maria%20Henkes":MAILTO:info@mariahenkes.nl
END:VEVENT
END:VCALENDAR