BEGIN:VCALENDAR
VERSION:2.0
PRODID:-//Maria Henkes - Bewustzijn, licht en liefde - ECPv5.8.1//NONSGML v1.0//EN
CALSCALE:GREGORIAN
METHOD:PUBLISH
X-WR-CALNAME:Maria Henkes - Bewustzijn, licht en liefde
X-ORIGINAL-URL:https://mariahenkes.nl
X-WR-CALDESC:Events for Maria Henkes - Bewustzijn, licht en liefde
BEGIN:VTIMEZONE
TZID:UTC
BEGIN:STANDARD
TZOFFSETFROM:+0000
TZOFFSETTO:+0000
TZNAME:UTC
DTSTART:20230101T000000
END:STANDARD
END:VTIMEZONE
BEGIN:VEVENT
DTSTART;TZID=UTC:20230913T203000
DTEND;TZID=UTC:20230913T213000
DTSTAMP:20260423T022726
CREATED:20230813T072554Z
LAST-MODIFIED:20230910T142024Z
UID:4075-1694637000-1694640600@mariahenkes.nl
SUMMARY:Krachtige healing op afstand 13 sept 2023
DESCRIPTION:xdfeemglkgfdgfj
URL:https://mariahenkes.nl/agenda/krachtige-healing-op-afstand-13-sept-2023/
LOCATION:Lekker vanuit je eigen ontspannen thuis\, maar wel met de mogelijkheid tot online TEAMS verbinding
ATTACH;FMTTYPE=image/jpeg:https://mariahenkes.nl/wp-content/uploads/2021/07/hand-3979196_1280-met-licht-free-pixabay-voor-de-agenda-584-bij-368.jpg
ORGANIZER;CN="Maria%20Henkes":MAILTO:info@mariahenkes.nl
END:VEVENT
END:VCALENDAR