BEGIN:VCALENDAR
VERSION:2.0
PRODID:-//Maria Henkes - Bewustzijn, licht en liefde - ECPv5.8.1//NONSGML v1.0//EN
CALSCALE:GREGORIAN
METHOD:PUBLISH
X-WR-CALNAME:Maria Henkes - Bewustzijn, licht en liefde
X-ORIGINAL-URL:https://mariahenkes.nl
X-WR-CALDESC:Events for Maria Henkes - Bewustzijn, licht en liefde
BEGIN:VTIMEZONE
TZID:UTC
BEGIN:STANDARD
TZOFFSETFROM:+0000
TZOFFSETTO:+0000
TZNAME:UTC
DTSTART:20210101T000000
END:STANDARD
END:VTIMEZONE
BEGIN:VEVENT
DTSTART;TZID=UTC:20210920T193000
DTEND;TZID=UTC:20210920T220000
DTSTAMP:20260424T210504
CREATED:20210831T091900Z
LAST-MODIFIED:20211012T112842Z
UID:944-1632166200-1632175200@mariahenkes.nl
SUMMARY:Online Wat is flow?
DESCRIPTION:Online\, Wat is Flow?\nMijn tweede boek met als titel: ‘Het laten ontstaan vanuit Flow’ gaat hier helemaal over. \nTer voorbereiding op het boek kun je nu deze workshop; Wat is Flow\, ook online bij mij volgen. Na afloop van de workshop krijg je het boek thuis gestuurd. \nWe lopen door de belangrijkste stappen heen die nodig zijn om steeds meer vanuit Flow te kunnen zijn. We zullen daarna ook samen in ons bewustzijn gaan zitten. Vanuit geïnspireerd spreken leid ik je naar de hogere dimensies heen\, en kijken we onderweg wat er nodig is om alles vanuit Flow te laten ontstaan. Juist door het te ervaren\, ga je zien wat er nodig is\, om het in de je dagelijkse leven te gaan toepassen. \nHoe zou het zijn\, als je over een tijdje al steeds meer vanuit flow kunt gaan leven? Alles steeds meer kunt laten ontstaan… Doordat je weet hoe je jezelf ertussenuit kunt houden. \nWanneer:\nMaandagavond 20 september \nWaar:\nOnline\, via TEAMS. je ontvangt van mij gewoon een link op je email adres\, als je die aanklikt\, ben je gelijk binnen. je hoeft geen TEAMS app te installeren\, als je de link via je computer aanklikt. Als je het wilt volgen via je telefoon\, dan heb je wel de gratis TEAMS app nodig. \nHoe laat: \n\nBegint: 19.30 uur\nEindigt: 22.00 uur\n\nEntree: \n€ 55\,- (incl. m’n tweede boek; ‘Het laten ontstaan vanuit Flow’) graag van te voren betalen. Mijn rekeningnummer vind je onder contact. \nAanmelden: \nOm een plekje te reserveren stuur je even een mailtje naar info@mariahenkes.nl \nKlik hier voor meer informatie \nKlik om het interview van Patrick Kicken met mij te bekijken hier
URL:https://mariahenkes.nl/agenda/online-wat-is-flow/
LOCATION:Online\, Online\, via TEAMS
ATTACH;FMTTYPE=image/png:https://mariahenkes.nl/wp-content/uploads/2021/08/met-zon-e1630410088732.png
ORGANIZER;CN="Maria%20Henkes":MAILTO:info@mariahenkes.nl
END:VEVENT
END:VCALENDAR