BEGIN:VCALENDAR
VERSION:2.0
PRODID:-//Maria Henkes - Bewustzijn, licht en liefde - ECPv5.8.1//NONSGML v1.0//EN
CALSCALE:GREGORIAN
METHOD:PUBLISH
X-WR-CALNAME:Maria Henkes - Bewustzijn, licht en liefde
X-ORIGINAL-URL:https://mariahenkes.nl
X-WR-CALDESC:Events for Maria Henkes - Bewustzijn, licht en liefde
BEGIN:VTIMEZONE
TZID:UTC
BEGIN:STANDARD
TZOFFSETFROM:+0000
TZOFFSETTO:+0000
TZNAME:UTC
DTSTART:20220101T000000
END:STANDARD
END:VTIMEZONE
BEGIN:VEVENT
DTSTART;TZID=UTC:20220213T131500
DTEND;TZID=UTC:20220213T170000
DTSTAMP:20260422T114820
CREATED:20211217T200817Z
LAST-MODIFIED:20211217T203441Z
UID:1499-1644758100-1644771600@mariahenkes.nl
SUMMARY:Satsang
DESCRIPTION:Satsang\nSatsang op zondagmiddag 13 februari 2022\n\nSatsang\, een samenzijn om te leren hoe je uit je mind\, en in je ziel/bewustzijn kunt komen. We gaan kijken hoe we dingen vanuit ons mensstuk benaderen\, en hoe de ziel ze benadert. Om zo weer meer vanuit onze ziel te kunnen gaan leven!!!\n\nWanneer:\nZondagmiddag 13 februari 2022\nWaar:\nin de prachtige living art gallery \nGratis parkeren op zondag. (in de straat maar ook in de parkeergarage aan de Overtoom 2\, IJsselstein\, dat is 2 min lopen naar de living art gallery) \nHoe laat:\n\nInloop: 13.15 uur\nBegint: 13.30 uur\nEindigt: 17.00 uur\n\nAanmelden:\ndoor hieronder te betalen ben je gelijk en automatisch aangemeld. \nKost:\n30\,- \nKoop hier je ticket \nExtra informatie:\nEr is thee en wat lekkers. Neem voor jezelf een flesje water mee en lekkere warme sokken/sloffen. \nGezondheid:\nOm goed voor onszelf en elkaar te zorgen\, blijf thuis als je klachten hebt. \nJe kunt dan gewoon kosteloos afzeggen en als je wilt in een volgende groep mee instromen.\nMocht je vragen hebben:\nKijk even onder Wat is Satsang of stuur een mailtje naar: info@mariahenkes.nl \nWees welkom\, herinner\, realiseer\, bevrijd jezelf\, ervaar….\nNamasté! \nMaria
URL:https://mariahenkes.nl/agenda/satsang-2/
LOCATION:in de prachtige Living Art Gallery\, Schuttersgracht 18\, IJsselstein\, Utrecht\, Nederland
ATTACH;FMTTYPE=image/jpeg:https://mariahenkes.nl/wp-content/uploads/2021/07/slide4.jpg
ORGANIZER;CN="Maria%20Henkes":MAILTO:info@mariahenkes.nl
END:VEVENT
END:VCALENDAR