BEGIN:VCALENDAR
VERSION:2.0
PRODID:-//Maria Henkes - Bewustzijn, licht en liefde - ECPv5.8.1//NONSGML v1.0//EN
CALSCALE:GREGORIAN
METHOD:PUBLISH
X-WR-CALNAME:Maria Henkes - Bewustzijn, licht en liefde
X-ORIGINAL-URL:https://mariahenkes.nl
X-WR-CALDESC:Events for Maria Henkes - Bewustzijn, licht en liefde
BEGIN:VTIMEZONE
TZID:UTC
BEGIN:STANDARD
TZOFFSETFROM:+0000
TZOFFSETTO:+0000
TZNAME:UTC
DTSTART:20250101T000000
END:STANDARD
END:VTIMEZONE
BEGIN:VEVENT
DTSTART;VALUE=DATE:20251113
DTEND;VALUE=DATE:20260128
DTSTAMP:20260422T091601
CREATED:20251114T133722Z
LAST-MODIFIED:20251114T134336Z
UID:7372-1762992000-1769558399@mariahenkes.nl
SUMMARY:Speciale aanbieding om met alle Energetische Huisreinigingen en Healingen van 2026 mee te doen
DESCRIPTION:Als je in 2026  12x je huis energetisch opgeschoond wilt hebben\, middels de energetische huisreiniging\, en ook nog in het totaal 17x een krachtige\, liefdevolle healing op afstand wilt ontvangen. Dan is deze speciale aanbieding voor jou. Zo word je het hele jaar door extra ondersteund in al je processen. En je hoeft daar helemaal niks voor te doen. Aanmelden voor deze speciale aanbieding  kan nog tot 28 jan 2026. Daarna  kun je altijd per keer/ los deelnemen als je dat wilt. \nIn het totaal zal ik maar liefst 17 groepshealingen op afstand geven in het nieuwe jaar\, daarbij vindt 12x de energetische huisreiniging plaats.  \nAanmelden:\nWat het kost en hoe je je aanmeld: \nIk kan je van harte aanbevelen om voor de speciale aanbiedingsprijs deel te nemen\, want dat levert je een totaal voordeel op van € 165\,-! \n-Je kunt òf in één keer betalen; 360\,- Koop dan hier je ticket. Je staat dan ook al gelijk en automatisch aangemeld. \nòf \n-Je kunt per maand 30\,- betalen; bijvoorbeeld via een automatische incasso op de eerste van de maand. Stuur dan even een mailtje dat je meedoet met alle 17 healingen voor het komende jaar naar info@mariahenkes.nl \nDeze speciale aanbiedingsprijs geldt alleen als je je aangemeld hebt vòòr de 1e Healing op 28 januari 2026. (op één van bovenstaande manieren). \nNog 2 extra aanbiedingen: \n\nJe mag per volwassene\, 1 kind voor de halve prijs meenemen in de healingen. Je betaalt dan voor jullie tweetjes 45\,- per maand.\nHeb je je tweelingziel ontmoet: laat me dat dan even weten\, en ook de naam\, dan neem ik hem/haar gratis mee in de healingen.\n\nOp de dag van de healing zelf\, ontvang je rond 19.00 uur\, even een mailtje als reminder\, daarin vind je ook de TEAMS link\, mocht je online erbij willen zijn\, mag\, hoeft niet.\nOok na afloop ontvang je even een kort verslagje van de healing.  (alle data voor 2026 zie je onderaan). \nAls je vragen hebt\, graag even mailen naar info@mariahenkes.nl \nJe hoeft niet alles alleen te doen in het leven. Dus gun jezelf een beetje hulp van de Engelen\, Gidsen en Spirits… \nDit zijn alle data voor 2026 \n12x een Intuïtieve groepshealing (kost los 25\,-) \nen \n5x een IET® volledige Engelen zieledoelen Healing (kost los 45\,-). \n\n28 jan. 2026\, woe\, Intuïtieve healing\n11 febr 2026\, woe IET* engelen healing\n04 mrt 2026\, woe Intuïtieve^ healing\n25 mrt. 2026\, woe Intuïtieve^ healing\n08 apr. 2026\, woe Intuïtieve^ healing\n22  apr. 2026\, woe Intuïtieve^ healing\n13 mei. 2026\, woe IET* engelen healing\n17 juni 2026\, woe Intuïtieve^ healing\n01 juli 2026\, woe IET* engelen healing\n12 aug. 2026\, woe Intuïtieve^ healing\n09 sept 2026\, woe Intuïtieve^ healing\n16 sept 2026\, woe Intuïtieve^ healing\n07 okt 2026\,  woe Intuïtieve^ healing\n28 okt. 2026\, woe IET* engelen healing\n04 nov. 2026\, woe Intuïtieve^ healing\n18 nov. 2026\, woe Intuïtieve^ healing\n16 dec. 2026\, woe IET* engelen healing\n\n*IET®=Integrated Energy Therapy® Engelen Healing\n^ Bij alle intuïtieve healingen\, vindt ook een energetische huisreiniging plaats.
URL:https://mariahenkes.nl/agenda/speciale-aanbieding-om-met-alle-energetische-huisreinigingen-en-healingen-van-2026-mee-te-doen/
LOCATION:Lekker vanuit je eigen ontspannen thuis\, maar wel met de mogelijkheid tot online TEAMS verbinding
ATTACH;FMTTYPE=image/jpeg:https://mariahenkes.nl/wp-content/uploads/2021/07/hand-3979196_1280-met-licht-free-pixabay-voor-de-agenda-584-bij-368.jpg
ORGANIZER;CN="Maria%20Henkes":MAILTO:info@mariahenkes.nl
END:VEVENT
END:VCALENDAR